BEGIN:VCALENDAR
VERSION:2.0
PRODID:-//Culinair Bikers - ECPv6.2.9//NONSGML v1.0//EN
CALSCALE:GREGORIAN
METHOD:PUBLISH
X-WR-CALNAME:Culinair Bikers
X-ORIGINAL-URL:https://culinairbikers.com
X-WR-CALDESC:Evenementen voor Culinair Bikers
REFRESH-INTERVAL;VALUE=DURATION:PT1H
X-Robots-Tag:noindex
X-PUBLISHED-TTL:PT1H
BEGIN:VTIMEZONE
TZID:UTC
BEGIN:STANDARD
TZOFFSETFROM:+0000
TZOFFSETTO:+0000
TZNAME:UTC
DTSTART:20270101T000000
END:STANDARD
END:VTIMEZONE
BEGIN:VEVENT
DTSTART;TZID=UTC:20270110T143000
DTEND;TZID=UTC:20270110T170000
DTSTAMP:20260422T073535
CREATED:20251203T212215Z
LAST-MODIFIED:20251203T212215Z
UID:2543-1799591400-1799600400@culinairbikers.com
SUMMARY:ALV aansluitend Nieuwjaarsborrel 2027
DESCRIPTION:Vandaag houden we onze ALV. We kijken terug op 2026\, de kascontrole doet verslag\, hopelijk zit er genoeg in de kas\, zodat de penningmeester in de pauze een rondje kan geven. De toercommissie maakt bekend wie er in clubverband de meeste kilometers heeft gereden. En tevens wordt de toerkalender van 2027 besproken. Na al dat geklets is het tijd om de kelen door te smeren dus doen we aansluitend de Nieuwjaars borrel. De ALV start om half 3 met aansluitend om ± half 5 deNieuwjaarsborrel. Alleen voor leden en genodigden.
URL:https://culinairbikers.com/toerkalender/alv-aansluitend-nieuwjaarsborrel-2027/
LOCATION:Rolerisuit\, Bredestraat 4\, BREDA\, 48923ZA\, Nederland
ORGANIZER;CN="Culinair Bikers":MAILTO:toercommissie@culinairbikers.nl
END:VEVENT
END:VCALENDAR