BEGIN:VCALENDAR
VERSION:2.0
PRODID:-//Culinair Bikers - ECPv6.2.9//NONSGML v1.0//EN
CALSCALE:GREGORIAN
METHOD:PUBLISH
X-WR-CALNAME:Culinair Bikers
X-ORIGINAL-URL:https://culinairbikers.com
X-WR-CALDESC:Evenementen voor Culinair Bikers
REFRESH-INTERVAL;VALUE=DURATION:PT1H
X-Robots-Tag:noindex
X-PUBLISHED-TTL:PT1H
BEGIN:VTIMEZONE
TZID:UTC
BEGIN:STANDARD
TZOFFSETFROM:+0000
TZOFFSETTO:+0000
TZNAME:UTC
DTSTART:20260101T000000
END:STANDARD
END:VTIMEZONE
BEGIN:VEVENT
DTSTART;TZID=UTC:20260207T180000
DTEND;TZID=UTC:20260207T230000
DTSTAMP:20260422T014741
CREATED:20241108T152220Z
LAST-MODIFIED:20251203T200638Z
UID:2350-1770487200-1770505200@culinairbikers.com
SUMMARY:Diner bij?
DESCRIPTION:Alleen voor leden \nWe gaan gezellig uit eten. \nLocatie en tijd volgen via de app
URL:https://culinairbikers.com/toerkalender/diner-bij/
ORGANIZER;CN="Culinair Bikers":MAILTO:toercommissie@culinairbikers.nl
END:VEVENT
BEGIN:VEVENT
DTSTART;TZID=UTC:20260315T103000
DTEND;TZID=UTC:20260315T160000
DTSTAMP:20260422T014741
CREATED:20231127T192213Z
LAST-MODIFIED:20251203T195733Z
UID:2235-1773570600-1773590400@culinairbikers.com
SUMMARY:Opening rit
DESCRIPTION:Vandaag gaan met o.a. de vrijwilligers van 29 maart 2026 de open rit van die dag\, voorrijden.  Voordeel is dat eventuele foutjes er nog kunnen worden uit gehaald.  Voor de deelnemers: gezien we de controlerende taak hebben en er waarschijnlijk te lang wordt geluncht\, graag beiden (jij en de motor) af getankt op het verzamelpunt komen. De rit is 2 x 125 km.  Klein rekensommetje geeft aan 250 km + 1 x een koffiestop en een lunch = een volle dag.  Deze rit is alleen voor leden en genodigden. Verzamelen om 10:30 uur bij eetcafé De Peer\, vertrek uiterlijk 11:00 uur.
URL:https://culinairbikers.com/toerkalender/opening-rit/
LOCATION:de Peer\, Oude Liesboslaan 172\, Prinsenbeek
ORGANIZER;CN="Culinair Bikers":MAILTO:toercommissie@culinairbikers.nl
END:VEVENT
BEGIN:VEVENT
DTSTART;TZID=UTC:20260329T090000
DTEND;TZID=UTC:20260329T170000
DTSTAMP:20260422T014741
CREATED:20251203T195626Z
LAST-MODIFIED:20260127T202324Z
UID:2497-1774774800-1774803600@culinairbikers.com
SUMMARY:Warming-up rit 2026
DESCRIPTION:De Culinair Bikers organiseert samen met MC Vogelvrij DE WARMING UP Rit 2026. \nEen open rit voor motorclubs en individuele rijders die niet mag missen.\nDe winter ligt achter ons\, het nieuwe seizoen is begonnen. Motorrijden is weer even wennen\, het geheugen heeft weer even een update nodig\, hoe was de feeling met de motor ook alweer. Daarom starten we 29 maart het motorseizoen met een rit van ongeveer 200 km over allerlei soorten verharde wegen. Onze toercommissie heeft de leukste weggetjes richting Groot-Ammers voor je op gezocht. In Groot-Ammers bij MC Vogelvrij is de gelegenheid voor de lunch (niet inbegrepen)\, tevens laad je hier (gratis) het 2de gedeelte van de route. Deze gaat weer naar de Culinair Bikers in Breda. Wij nodigen dan ook alle motorrijders uit om deel te nemen aan deze rit. Deelname kost € 7.50 per rijder\, de duo gaat gratis mee. Voor dit geld krijg je: 1 kop koffie of thee bij de inschrijving\, een leuke tourrit van ongeveer 200 km . De rit is alleen digitaal (Garmin en TomTom) te verkrijgen\, zorg dat je kaart materiaal is geüpdatet. Heb je geen navigatie\, geen probleem. De ervaring heeft geleerd dat je altijd wel ergens kan bij aansluiten. Zorg wel dat je dan uiterlijk om 10:00 uur bij de inschrijflocatie bent. \nInschrijven kan van 9.00 uur tot 12.00 uur.\nInschrijf en start locatie:\nCulinair Bikers p/a Rolerisuit Bredestraat 4 4823 ZA Breda\nINFO: toercommisie@culinairbikers.nl of bel de toercommissie: 06 -53765472
URL:https://culinairbikers.com/toerkalender/warming-up-2026/
LOCATION:Rolerisuit\, Bredestraat 4\, BREDA\, 48923ZA\, Nederland
ORGANIZER;CN="Culinair Bikers":MAILTO:toercommissie@culinairbikers.nl
END:VEVENT
BEGIN:VEVENT
DTSTART;TZID=UTC:20260412T084500
DTEND;TZID=UTC:20260412T170000
DTSTAMP:20260422T014741
CREATED:20250412T084556Z
LAST-MODIFIED:20251203T202135Z
UID:2501-1775983500-1776013200@culinairbikers.com
SUMMARY:Toer Utrechtse Heuvelrug
DESCRIPTION:Een ritje bij Ultrajectum over de zandheuvels uit de laatste ijstijd. We verzamelen bij parkeersplaats de Hespelaar aan de A59 ( tussen de afslag Made en ;Oosterhout).Als je er om 08:45 uur bent heb je nog tijd voor een bakkie en om je tank te vullen\, Vertrek is om 09:00 uur.
URL:https://culinairbikers.com/toerkalender/toer-utrechtse-heuvelrug/
LOCATION:BP de Hespelaar\, A59\, Den Hout
ORGANIZER;CN="Culinair Bikers":MAILTO:toercommissie@culinairbikers.nl
END:VEVENT
BEGIN:VEVENT
DTSTART;TZID=UTC:20260503T103000
DTEND;TZID=UTC:20260503T160000
DTSTAMP:20260422T014741
CREATED:20251203T201304Z
LAST-MODIFIED:20251203T202152Z
UID:2503-1777804200-1777824000@culinairbikers.com
SUMMARY:Toer de Picknick
DESCRIPTION:Jaaa\, we gaan weer picknicken. Waar? Dat zoeken we nog even uit. Opzet is dat we ongeveer halverwege de lunch uit een kofferbak plukken. De rit zal ongeveer 150 km zijn. Verzamelen om 10:30 bij de Peer. vertrek 11:00 uur
URL:https://culinairbikers.com/toerkalender/toer-de-picknick/
LOCATION:de Peer\, Oude Liesboslaan 172\, Prinsenbeek
ORGANIZER;CN="Culinair Bikers":MAILTO:toercommissie@culinairbikers.nl
END:VEVENT
BEGIN:VEVENT
DTSTART;TZID=UTC:20260517T090000
DTEND;TZID=UTC:20260517T170000
DTSTAMP:20260422T014741
CREATED:20251203T201928Z
LAST-MODIFIED:20251203T202203Z
UID:2505-1779008400-1779037200@culinairbikers.com
SUMMARY:Toer Hoekse Waard - Voorne Putten
DESCRIPTION:We gaan de Hoekse Waard en Voorne Putten eens bekijken. De mannen van de toercommissie hebben hun best gedaan om de mooiste wegen op te zoeken. Zodat we tussen onze stuurcapriolen volop van de natuur kunnen genieten. We verzamelen om 09:00 uur bij de Macdonald. vertrek is om 09:15 uur.
URL:https://culinairbikers.com/toerkalender/toer-hoekse-waard-voorne-putten/
LOCATION:McDonalds Veldsteen\, Veldsteen 4\, Breda\, Noord-Brabant\, Nederland
END:VEVENT
BEGIN:VEVENT
DTSTART;TZID=UTC:20260528T090000
DTEND;TZID=UTC:20260531T170000
DTSTAMP:20260422T014741
CREATED:20251203T202400Z
LAST-MODIFIED:20251203T202400Z
UID:2511-1779958800-1780246800@culinairbikers.com
SUMMARY:Motorweekend Eifel - Sauerland
DESCRIPTION:Motorweekend alleen voor leden. Info volgt.
URL:https://culinairbikers.com/toerkalender/motorweekend-eifel-sauerland/
ORGANIZER;CN="Culinair Bikers":MAILTO:toercommissie@culinairbikers.nl
END:VEVENT
BEGIN:VEVENT
DTSTART;TZID=UTC:20260614T090000
DTEND;TZID=UTC:20260614T160000
DTSTAMP:20260422T014741
CREATED:20251203T202906Z
LAST-MODIFIED:20251203T202906Z
UID:2513-1781427600-1781452800@culinairbikers.com
SUMMARY:Toer de Jelle zal wel zien (Theetuin)
DESCRIPTION:Ze gaan het meemaken\, Bikers aan de high tea. Niet alleen de Bikers maar ook onze niet rijdende leden enof aanhang zijn uitgenodigd om deel te nemen. Info hierover volgt nog via de app. Verzamelen om 09:00 uur bij de MacDonalds\, vertrek 09:15 uur.
URL:https://culinairbikers.com/toerkalender/toer-de-jelle-zal-wel-zien-theetuin/
LOCATION:McDonalds Veldsteen\, Veldsteen 4\, Breda\, Noord-Brabant\, Nederland
ORGANIZER;CN="Culinair Bikers":MAILTO:toercommissie@culinairbikers.nl
END:VEVENT
BEGIN:VEVENT
DTSTART;TZID=UTC:20260628T084500
DTEND;TZID=UTC:20260628T170000
DTSTAMP:20260422T014741
CREATED:20251203T203533Z
LAST-MODIFIED:20251203T203533Z
UID:2515-1782636300-1782666000@culinairbikers.com
SUMMARY:Toer de Vlaai
DESCRIPTION:Ook dit jaar komen we weer kilo’s aan. We gaan via de snelweg naar Limburg en zullen ons bij onze eerste stop te goed doen aan de Limburgse vlaai. Verzamelen om 08:45 uur parkeerplaats Raakeind aan de A58 (tussen afslag Bavel en Gilze) vertrek is om 09:15 uur\, je zou dus nog een kop koffie kunnen nemen of je motor af tanken.
URL:https://culinairbikers.com/toerkalender/toer-de-vlaai-2/
LOCATION:Esso  Raakeind\, A58\, 5126 RX Gilze
END:VEVENT
BEGIN:VEVENT
DTSTART;TZID=UTC:20260705T093000
DTEND;TZID=UTC:20260705T210000
DTSTAMP:20260422T014741
CREATED:20251203T203859Z
LAST-MODIFIED:20251203T204049Z
UID:2517-1783243800-1783285200@culinairbikers.com
SUMMARY:Tour de Malle Moer + BBQ / 125km
DESCRIPTION:Voor vandaag een kort ritje rondom Breda.\nWe verzamelen om 9:30 uur bij McDonalds Veldsteen Breda\, vertrek om 09:45 uur.\nJe moet immers op tijd terug zijn om opgefrist op de jaarlijkse BBQ te verschijnen. \nLocatie BBQ is Rolerisuit\, Bredestraat 4\, 4815PK Breda \nInfo over de BBQ volgt via de app
URL:https://culinairbikers.com/toerkalender/tour-de-malle-moer-bbq-125km/
LOCATION:McDonalds Veldsteen\, Veldsteen 4\, Breda\, Noord-Brabant\, Nederland
ORGANIZER;CN="Culinair Bikers":MAILTO:toercommissie@culinairbikers.nl
END:VEVENT
BEGIN:VEVENT
DTSTART;TZID=UTC:20260719T103000
DTEND;TZID=UTC:20260719T170000
DTSTAMP:20260422T014741
CREATED:20251203T204250Z
LAST-MODIFIED:20251203T204250Z
UID:2521-1784457000-1784480400@culinairbikers.com
SUMMARY:Toer Biesbosch - Puzzelrit
DESCRIPTION:Nieuw in het assortiment\, we gaan puzzelen . Waar? Daar is de toercommissie nog volop mee bezig. Opzet is dat we tijdens de rit wat puzzels gaan oplossen. De rit zal ongeveer 150 km zijn. Verzamelen om 10:30 bij de Peer. vertrek 11:00 uur.
URL:https://culinairbikers.com/toerkalender/toer-biesbosch-puzzelrit/
LOCATION:de Peer\, Oude Liesboslaan 172\, Prinsenbeek
ORGANIZER;CN="Culinair Bikers":MAILTO:toercommissie@culinairbikers.nl
END:VEVENT
BEGIN:VEVENT
DTSTART;TZID=UTC:20260802T090000
DTEND;TZID=UTC:20260802T170000
DTSTAMP:20260422T014741
CREATED:20251203T204720Z
LAST-MODIFIED:20251203T204720Z
UID:2523-1785661200-1785690000@culinairbikers.com
SUMMARY:Toer Het Groene Hart
DESCRIPTION:We gaan kijken of het Groene hart nog op de juiste plek ligt. Verzamelen om 09:00 uur bij MacDonald\, vertrek 09:15 uur. Mocht het nodig zijn dan is er nog tijd voor een snel ontbijtje.
URL:https://culinairbikers.com/toerkalender/toer-het-groene-hart/
LOCATION:McDonalds Veldsteen\, Veldsteen 4\, Breda\, Noord-Brabant\, Nederland
ORGANIZER;CN="Culinair Bikers":MAILTO:toercommissie@culinairbikers.nl
END:VEVENT
BEGIN:VEVENT
DTSTART;TZID=UTC:20260823T103000
DTEND;TZID=UTC:20260823T160000
DTSTAMP:20260422T014741
CREATED:20251203T205418Z
LAST-MODIFIED:20251203T205418Z
UID:2525-1787481000-1787500800@culinairbikers.com
SUMMARY:Voorrijden Sponsorrit
DESCRIPTION:Vandaag gaan met o.a. de vrijwilligers van 6 september 2026 de open rit van die dag\, voorrijden. Voordeel is dat eventuele foutjes er nog kunnen worden uit gehaald. Voor de deelnemers: gezien we de controlerende taak hebben en er waarschijnlijk te lang wordt geluncht\, graag beiden (jij en de motor) af getankt op het verzamelpunt komen. De rit is ongeveer 150 km. Deze rit is alleen voor leden en genodigden . Verzamelen om 10:30 uur bij eetcafé De Peer\, vertrek uiterlijk 11:00 uur.
URL:https://culinairbikers.com/toerkalender/voorrijden-sponsorrit/
LOCATION:de Peer\, Oude Liesboslaan 172\, Prinsenbeek
END:VEVENT
BEGIN:VEVENT
DTSTART;TZID=UTC:20260906T090000
DTEND;TZID=UTC:20260906T170000
DTSTAMP:20260422T014741
CREATED:20251203T205608Z
LAST-MODIFIED:20260203T113218Z
UID:2527-1788685200-1788714000@culinairbikers.com
SUMMARY:Sponsorrit 2026
DESCRIPTION:Je hoeft ’s morgens niet te ontbijten want we starten de Sponsorrit met een ontbijtje. \nOok dit jaar gaat de gehele opbrengst van de rit naar de stichting Rolerisuit. Wij nodigen dan ook alle motorrijders (clubs en individueel) uit om mee te rijden. De rit is ongeveer 150 km. lang en gaat over leuke kronkelweggetjes en mooie dijkjes. Uiteraard ook is de route ook goed te berijden door : motoren met zijspan\, trikes\, can am\, motorscooters en MP3 LT motoren. De kosten zijn:  €12.00 per motorrijder en de duopassagier €3.50 . Hiervoor krijg je bij inschrijving: een ontbijtje met scrambled eggs\, koffie of thee en een leuke route.  De route is alleen op GPS (Garmin en TomTom )\, op het vertrekpunt\, te downloaden. Heb je geen navigatie dan is dat geen probleem\, je kunt altijd wel bij andere rijders aansluiten.\, zorg dan wel dat je uiterlijk om 10:30 uur aanwezig bent. Ben je lid van de L.O.O.T.\, dan krijg je 5 punten voor deze rit. \nInfo over de stichting Rolerisuit : www.rolerisuit.nl \nInschrijven en starten kan van 9.00 uur tot 12.00 uur. \nStart: Boerderij van Rolerisuit\, Bredestraat 4 4823 ZA Breda.
URL:https://culinairbikers.com/toerkalender/sponsorrit-2026/
LOCATION:Rolerisuit\, Bredestraat 4\, BREDA\, 48923ZA\, Nederland
END:VEVENT
BEGIN:VEVENT
DTSTART;TZID=UTC:20260910T090000
DTEND;TZID=UTC:20260913T170000
DTSTAMP:20260422T014741
CREATED:20251203T205822Z
LAST-MODIFIED:20251203T205822Z
UID:2529-1789030800-1789318800@culinairbikers.com
SUMMARY:Motorweekend Hotel Duitsland / Limburg
DESCRIPTION:Motorweekend alleen voor leden. Info volgt.
URL:https://culinairbikers.com/toerkalender/motorweekend-hotel-duitsland-limburg/
ORGANIZER;CN="Culinair Bikers":MAILTO:toercommissie@culinairbikers.nl
END:VEVENT
BEGIN:VEVENT
DTSTART;TZID=UTC:20260920T100000
DTEND;TZID=UTC:20260920T170000
DTSTAMP:20260422T014741
CREATED:20251203T210221Z
LAST-MODIFIED:20251203T210221Z
UID:2531-1789898400-1789923600@culinairbikers.com
SUMMARY:Toer de Lossez
DESCRIPTION:Leuke route door het Brabantse land\, omdat Eetwinkel Lossez dit jaar de eerste prijs heeft ontvangen mogen dit etablissement niet overslaan en zullen we hier aan het eind van de rit een vorkje gaan prikken. Verzamelen om 10:30 uur bij de Peer\, vertrek om 11:00 uur.
URL:https://culinairbikers.com/toerkalender/toer-de-lossez-2/
LOCATION:de Peer\, Oude Liesboslaan 172\, Prinsenbeek
ORGANIZER;CN="Culinair Bikers":MAILTO:toercommissie@culinairbikers.nl
END:VEVENT
BEGIN:VEVENT
DTSTART;TZID=UTC:20261011T103000
DTEND;TZID=UTC:20261011T160000
DTSTAMP:20260422T014741
CREATED:20251203T210533Z
LAST-MODIFIED:20251203T211232Z
UID:2533-1791714600-1791734400@culinairbikers.com
SUMMARY:Toer België
DESCRIPTION:Vandaag gaat de rit door België en zijn we dus de Ollander\, vergeet vooral niet te tanken. Verzamelen om 10:30 uur bij de Peer\, vertrek om 11:00 uur.
URL:https://culinairbikers.com/toerkalender/toer-belgie/
ORGANIZER;CN="Culinair Bikers":MAILTO:toercommissie@culinairbikers.nl
END:VEVENT
BEGIN:VEVENT
DTSTART;TZID=UTC:20261031T103000
DTEND;TZID=UTC:20261031T160000
DTSTAMP:20260422T014741
CREATED:20251203T210804Z
LAST-MODIFIED:20251203T211409Z
UID:2536-1793442600-1793462400@culinairbikers.com
SUMMARY:Stamppotrit
DESCRIPTION:Voor vandaag een kort ritje van ongeveer 125 km rondom Breda. We verzamelen om 10:30 uur bij de Peer in Prinsenbeek\, vertrek om 11: uur. Je moet immers op tijd terug zijn om opgefrist op het jaarlijkse stamppotten diner te verschijnen. Info over het diner volgt via de app
URL:https://culinairbikers.com/toerkalender/stamppotrit/
LOCATION:de Peer\, Oude Liesboslaan 172\, Prinsenbeek
ORGANIZER;CN="Culinair Bikers":MAILTO:toercommissie@culinairbikers.nl
END:VEVENT
BEGIN:VEVENT
DTSTART;TZID=UTC:20261108T090000
DTEND;TZID=UTC:20261108T160000
DTSTAMP:20260422T014741
CREATED:20251203T211323Z
LAST-MODIFIED:20251203T211622Z
UID:2538-1794128400-1794153600@culinairbikers.com
SUMMARY:Rondje Roosendaal
DESCRIPTION:Ook vandaag gaan we niet te ver van huis\, we gaan naar de Brabantse Wal. Dat is een opvallend landschap in West-Brabant\, op de grens met Zeeland en Vlaanderen (België). De Brabantse Wal ligt o.a. in de gemeenten Woensdrecht\, Bergen op Zoom\, Steenbergen. Verzamelen om 09:00 uur bij de MacDonalds\, vertrek 09:15 uur.
URL:https://culinairbikers.com/toerkalender/rondje-roosendaal/
LOCATION:McDonalds Veldsteen\, Veldsteen 4\, Breda\, Noord-Brabant\, Nederland
ORGANIZER;CN="Culinair Bikers":MAILTO:toercommissie@culinairbikers.nl
END:VEVENT
BEGIN:VEVENT
DTSTART;TZID=UTC:20261213T150000
DTEND;TZID=UTC:20261213T180000
DTSTAMP:20260422T014741
CREATED:20251203T211823Z
LAST-MODIFIED:20251203T211846Z
UID:2541-1797174000-1797184800@culinairbikers.com
SUMMARY:Gluhwein treffen 2026
DESCRIPTION:Nog voor de Kerst even elkaar ontmoeten. Kom zonder motor want het is tijd voor een borrel\, hapje en gezellige praat. Alleen voor leden en genodigden.
URL:https://culinairbikers.com/toerkalender/gluhwein-treffen-2026/
LOCATION:Rolerisuit\, Bredestraat 4\, BREDA\, 48923ZA\, Nederland
ORGANIZER;CN="Culinair Bikers":MAILTO:toercommissie@culinairbikers.nl
END:VEVENT
BEGIN:VEVENT
DTSTART;TZID=UTC:20270110T143000
DTEND;TZID=UTC:20270110T170000
DTSTAMP:20260422T014741
CREATED:20251203T212215Z
LAST-MODIFIED:20251203T212215Z
UID:2543-1799591400-1799600400@culinairbikers.com
SUMMARY:ALV aansluitend Nieuwjaarsborrel 2027
DESCRIPTION:Vandaag houden we onze ALV. We kijken terug op 2026\, de kascontrole doet verslag\, hopelijk zit er genoeg in de kas\, zodat de penningmeester in de pauze een rondje kan geven. De toercommissie maakt bekend wie er in clubverband de meeste kilometers heeft gereden. En tevens wordt de toerkalender van 2027 besproken. Na al dat geklets is het tijd om de kelen door te smeren dus doen we aansluitend de Nieuwjaars borrel. De ALV start om half 3 met aansluitend om ± half 5 deNieuwjaarsborrel. Alleen voor leden en genodigden.
URL:https://culinairbikers.com/toerkalender/alv-aansluitend-nieuwjaarsborrel-2027/
LOCATION:Rolerisuit\, Bredestraat 4\, BREDA\, 48923ZA\, Nederland
ORGANIZER;CN="Culinair Bikers":MAILTO:toercommissie@culinairbikers.nl
END:VEVENT
END:VCALENDAR