BEGIN:VCALENDAR
VERSION:2.0
PRODID:-//Culinair Bikers - ECPv6.2.9//NONSGML v1.0//EN
CALSCALE:GREGORIAN
METHOD:PUBLISH
X-WR-CALNAME:Culinair Bikers
X-ORIGINAL-URL:https://culinairbikers.com
X-WR-CALDESC:Evenementen voor Culinair Bikers
REFRESH-INTERVAL;VALUE=DURATION:PT1H
X-Robots-Tag:noindex
X-PUBLISHED-TTL:PT1H
BEGIN:VTIMEZONE
TZID:UTC
BEGIN:STANDARD
TZOFFSETFROM:+0000
TZOFFSETTO:+0000
TZNAME:UTC
DTSTART:20260101T000000
END:STANDARD
END:VTIMEZONE
BEGIN:VEVENT
DTSTART;TZID=UTC:20260910T090000
DTEND;TZID=UTC:20260913T170000
DTSTAMP:20260422T100703
CREATED:20251203T205822Z
LAST-MODIFIED:20251203T205822Z
UID:2529-1789030800-1789318800@culinairbikers.com
SUMMARY:Motorweekend Hotel Duitsland / Limburg
DESCRIPTION:Motorweekend alleen voor leden. Info volgt.
URL:https://culinairbikers.com/toerkalender/motorweekend-hotel-duitsland-limburg/
ORGANIZER;CN="Culinair Bikers":MAILTO:toercommissie@culinairbikers.nl
END:VEVENT
END:VCALENDAR